
      
      
      
BEGIN:VCALENDAR
VERSION:2.0
PRODID:-//Nyíregyházi Sportcentrum - ECPv4.9.1.1//NONSGML v1.0//EN
CALSCALE:GREGORIAN
METHOD:PUBLISH
X-WR-CALNAME:Nyíregyházi Sportcentrum
X-ORIGINAL-URL:https://nyiregyhazisc.hu
X-WR-CALDESC:Events for Nyíregyházi Sportcentrum
BEGIN:VEVENT
DTSTART;TZID=UTC+1:20221002T100000
DTEND;TZID=UTC+1:20221002T140000
DTSTAMP:20260422T215711
CREATED:20220930T124105Z
LAST-MODIFIED:20220930T124105Z
UID:16473-1664704800-1664719200@nyiregyhazisc.hu
SUMMARY:Őryné Merő Nóra U13 Röplabda mérkőzések
DESCRIPTION:Mérkőzések \nHelyszín: Kaposvár \n10.00 KASI U13 Piros – Nyíregyházi Sportcentrum \n11.30 Delta Röplabda SE – Nyíregyházi Sportcentrum \n
URL:https://nyiregyhazisc.hu/esemeny/oryne-mero-nora-u13-roplabda-merkozesek/
CATEGORIES:Sportesemény
END:VEVENT
END:VCALENDAR