
      
      
      
BEGIN:VCALENDAR
VERSION:2.0
PRODID:-//Nyíregyházi Sportcentrum - ECPv4.9.1.1//NONSGML v1.0//EN
CALSCALE:GREGORIAN
METHOD:PUBLISH
X-WR-CALNAME:Nyíregyházi Sportcentrum
X-ORIGINAL-URL:https://nyiregyhazisc.hu
X-WR-CALDESC:Events for Nyíregyházi Sportcentrum
BEGIN:VEVENT
DTSTART;TZID=UTC+1:20230318T100000
DTEND;TZID=UTC+1:20230318T133000
DTSTAMP:20260422T144610
CREATED:20230314T134834Z
LAST-MODIFIED:20230314T134834Z
UID:18537-1679133600-1679146200@nyiregyhazisc.hu
SUMMARY:Őryné Merő Nóra U13 Országos Röplabda Bajnokság III.osztály Debrecen
DESCRIPTION:Mérkőzések: \n10.00 DEAC – Nyíregyházi Sportcentrum Piros \n11.30 Nyíregyházi Sportcentrum Piros – NBARA 3 \n
URL:https://nyiregyhazisc.hu/esemeny/oryne-mero-nora-u13-orszagos-roplabda-bajnoksag-iii-osztaly-debrecen/
CATEGORIES:Sportesemény
END:VEVENT
END:VCALENDAR