
      
      
      
BEGIN:VCALENDAR
VERSION:2.0
PRODID:-//Nyíregyházi Sportcentrum - ECPv4.9.1.1//NONSGML v1.0//EN
CALSCALE:GREGORIAN
METHOD:PUBLISH
X-WR-CALNAME:Nyíregyházi Sportcentrum
X-ORIGINAL-URL:https://nyiregyhazisc.hu
X-WR-CALDESC:Events for Nyíregyházi Sportcentrum
BEGIN:VEVENT
DTSTART;TZID=UTC+1:20230318T123000
DTEND;TZID=UTC+1:20230318T160000
DTSTAMP:20260422T144523
CREATED:20230314T134615Z
LAST-MODIFIED:20230314T134615Z
UID:18534-1679142600-1679155200@nyiregyhazisc.hu
SUMMARY:Őryné Merő Nóra U13 Országos Röplabda Bajnokság I.osztály Kecskemét
DESCRIPTION:Mérkőzések: \n12.30 Gödöllői RC – Nyíregyházi Sportcentrum \n14.00 KESI – Nyíregyházi Sportcentrum \n
URL:https://nyiregyhazisc.hu/esemeny/oryne-mero-nora-u13-orszagos-roplabda-bajnoksag-i-osztaly-kecskemet-2/
CATEGORIES:Sportesemény
END:VEVENT
END:VCALENDAR