
      
      
      
BEGIN:VCALENDAR
VERSION:2.0
PRODID:-//Nyíregyházi Sportcentrum - ECPv4.9.1.1//NONSGML v1.0//EN
CALSCALE:GREGORIAN
METHOD:PUBLISH
X-WR-CALNAME:Nyíregyházi Sportcentrum
X-ORIGINAL-URL:https://nyiregyhazisc.hu
X-WR-CALDESC:Events for Nyíregyházi Sportcentrum
BEGIN:VEVENT
DTSTART;VALUE=DATE:20220115
DTEND;VALUE=DATE:20220116
DTSTAMP:20260423T125817
CREATED:20220103T130714Z
LAST-MODIFIED:20220103T130714Z
UID:14046-1642204800-1642291199@nyiregyhazisc.hu
SUMMARY:Őryné Merő Nóra U13 OMB röplabda mérkőzés
DESCRIPTION:Őryné Merő Nóra U13 OMB röplabda mérkőzés \nHelyszín: Nyíregyháza\, Continental Aréna \nIdőpont: 2022. január 15. \n10.00 Miskolci Sportiskola – Nyíregyházi Sportcentrum \n14.30 Nyíregyházi Sportcentrum – Sülysáp \n17.30 Emericus SE A – Nyíregyházi Sportcentrum \n
URL:https://nyiregyhazisc.hu/esemeny/oryne-mero-nora-u13-omb-roplabda-merkozes/
CATEGORIES:Sportesemény
END:VEVENT
END:VCALENDAR