
      
      
      
BEGIN:VCALENDAR
VERSION:2.0
PRODID:-//Nyíregyházi Sportcentrum - ECPv4.9.1.1//NONSGML v1.0//EN
CALSCALE:GREGORIAN
METHOD:PUBLISH
X-WR-CALNAME:Nyíregyházi Sportcentrum
X-ORIGINAL-URL:https://nyiregyhazisc.hu
X-WR-CALDESC:Events for Nyíregyházi Sportcentrum
BEGIN:VEVENT
DTSTART;TZID=UTC+1:20211009T080000
DTEND;TZID=UTC+1:20211009T180000
DTSTAMP:20260423T175117
CREATED:20211007T084325Z
LAST-MODIFIED:20211007T084325Z
UID:13372-1633766400-1633802400@nyiregyhazisc.hu
SUMMARY:Őryné Merő Nóra U13 OMB Lány  Röplabda Bajnoki Forduló
DESCRIPTION:Őryné Merő Nóra U13 OMB Lány Röplabda Bajnoki Forduló \nMáv Előr Akadémia – Nyíregyházi Sportcentrum 11.30 \nVasas Sc Kék – Nyíregyházi Sportcentum 14.30 \nHelyszín: Érd\, Bólyai János Általános Iskola \n
URL:https://nyiregyhazisc.hu/esemeny/oryne-mero-nora-u13-omb-lany-roplabda-bajnoki-fordulo/
CATEGORIES:Sportesemény
END:VEVENT
END:VCALENDAR