
      
      
      
BEGIN:VCALENDAR
VERSION:2.0
PRODID:-//Nyíregyházi Sportcentrum - ECPv4.9.1.1//NONSGML v1.0//EN
CALSCALE:GREGORIAN
METHOD:PUBLISH
X-WR-CALNAME:Nyíregyházi Sportcentrum
X-ORIGINAL-URL:https://nyiregyhazisc.hu
X-WR-CALDESC:Events for Nyíregyházi Sportcentrum
BEGIN:VEVENT
DTSTART;VALUE=DATE:20220507
DTEND;VALUE=DATE:20220508
DTSTAMP:20260423T063921
CREATED:20220504T095907Z
LAST-MODIFIED:20220504T095907Z
UID:15274-1651881600-1651967999@nyiregyhazisc.hu
SUMMARY:Őryné Merő Nóra U13 OMB I. osztály
DESCRIPTION:Őryné Merő Nóra U13 OMB I. osztály Döntő \nHelyszín: Budapest \nMérkőzések \n11.30 BRSE Fehér- Nyíregyházi Sportcentrum \n13.00 Nyíregyházi Sportcentrum – MTK Budapest \n17.30 Nyíregyházi Sportcentrum – UTE U13 A \n
URL:https://nyiregyhazisc.hu/esemeny/oryne-mero-nora-u13-omb-i-osztaly/
CATEGORIES:Sportesemény
END:VEVENT
END:VCALENDAR