
      
      
      
BEGIN:VCALENDAR
VERSION:2.0
PRODID:-//Nyíregyházi Sportcentrum - ECPv4.9.1.1//NONSGML v1.0//EN
CALSCALE:GREGORIAN
METHOD:PUBLISH
X-WR-CALNAME:Nyíregyházi Sportcentrum
X-ORIGINAL-URL:https://nyiregyhazisc.hu
X-WR-CALDESC:Events for Nyíregyházi Sportcentrum
BEGIN:VEVENT
DTSTART;TZID=UTC+1:20220326T100000
DTEND;TZID=UTC+1:20220326T190000
DTSTAMP:20260423T093030
CREATED:20220317T093937Z
LAST-MODIFIED:20220317T093937Z
UID:14880-1648288800-1648321200@nyiregyhazisc.hu
SUMMARY:Őryné Merő Nóra U13 OMB I.osztály röplabda mérkőzés
DESCRIPTION:Őryné Merő Nóra U13 OMB I.osztály röplabda mérkőzés \nHelyszín: Békéscsaba \nIdőpont: 2022. március 26. \nMérkőzések: \n10.00 Nyíregyházi Sportcentrum – BRSE Fehér csapat \n13.00 Nyíregyházi Sportcentrum – Vasas SC Piros \n16.00 Gödöllői RC – Nyíregyházi Sportcentrum \n
URL:https://nyiregyhazisc.hu/esemeny/oryne-mero-nora-u13-omb-i-osztaly-roplabda-merkozes/
CATEGORIES:Sportesemény
END:VEVENT
END:VCALENDAR