
      
      
      
BEGIN:VCALENDAR
VERSION:2.0
PRODID:-//Nyíregyházi Sportcentrum - ECPv4.9.1.1//NONSGML v1.0//EN
CALSCALE:GREGORIAN
METHOD:PUBLISH
X-WR-CALNAME:Nyíregyházi Sportcentrum
X-ORIGINAL-URL:https://nyiregyhazisc.hu
X-WR-CALDESC:Events for Nyíregyházi Sportcentrum
BEGIN:VEVENT
DTSTART;TZID=UTC+1:20231104T123000
DTEND;TZID=UTC+1:20231104T180000
DTSTAMP:20260422T021529
CREATED:20231027T123946Z
LAST-MODIFIED:20231027T123946Z
UID:20727-1699101000-1699120800@nyiregyhazisc.hu
SUMMARY:Őryné Merő Nóra U13 leány röplabda mérkőzés II.osztály Kelet alapszakasz -Gödöllő
DESCRIPTION:Mérkőzések: \n12.30 UTE U13 Fehér- Nyíregyházi Sportcentrum Piros \n14.00 Nyíregyházi Sportcentrum – Gödöllői RC U13 II. \n
URL:https://nyiregyhazisc.hu/esemeny/oryne-mero-nora-u13-leany-roplabda-merkozes-ii-osztaly-kelet-alapszakasz-godollo/
CATEGORIES:Sportesemény
END:VEVENT
END:VCALENDAR