
      
      
      
BEGIN:VCALENDAR
VERSION:2.0
PRODID:-//Nyíregyházi Sportcentrum - ECPv4.9.1.1//NONSGML v1.0//EN
CALSCALE:GREGORIAN
METHOD:PUBLISH
X-WR-CALNAME:Nyíregyházi Sportcentrum
X-ORIGINAL-URL:https://nyiregyhazisc.hu
X-WR-CALDESC:Events for Nyíregyházi Sportcentrum
BEGIN:VEVENT
DTSTART;TZID=UTC+1:20231104T123000
DTEND;TZID=UTC+1:20231104T170000
DTSTAMP:20260422T021055
CREATED:20231019T130050Z
LAST-MODIFIED:20231019T130050Z
UID:20668-1699101000-1699117200@nyiregyhazisc.hu
SUMMARY:Őryné Merő Nóra U13 II.o. Kelet - Gödöllő
DESCRIPTION:Mérkőzések: \n12.30  UTE U13 Fehér – Nyíregyházi Sportcentrum \n14.00 Nyíregyházi Sportcentrum – Gödöllői RC U13 \n
URL:https://nyiregyhazisc.hu/esemeny/oryne-mero-nora-u13-ii-o-kelet-godollo/
CATEGORIES:Sportesemény
END:VEVENT
END:VCALENDAR