
      
      
      
BEGIN:VCALENDAR
VERSION:2.0
PRODID:-//Nyíregyházi Sportcentrum - ECPv4.9.1.1//NONSGML v1.0//EN
CALSCALE:GREGORIAN
METHOD:PUBLISH
X-WR-CALNAME:Nyíregyházi Sportcentrum
X-ORIGINAL-URL:https://nyiregyhazisc.hu
X-WR-CALDESC:Events for Nyíregyházi Sportcentrum
BEGIN:VEVENT
DTSTART;TZID=UTC+1:20231104T130000
DTEND;TZID=UTC+1:20231104T170000
DTSTAMP:20260422T021212
CREATED:20231019T125904Z
LAST-MODIFIED:20231019T125904Z
UID:20666-1699102800-1699117200@nyiregyhazisc.hu
SUMMARY:Őryné Merő Nóra U13 I.o. leány röplabda bajnokság - Budapest
DESCRIPTION:Mérkőzések: \n13.00 KASI U13 Sárga – Nyíregyházi Sportcentrum \n15.00 Nyíregyházi Sportcentrum – UTE U13 Lila \n
URL:https://nyiregyhazisc.hu/esemeny/oryne-mero-nora-u13-i-o-leany-roplabda-bajnoksag-budapest/
CATEGORIES:Sportesemény
END:VEVENT
END:VCALENDAR