
      
      
      
BEGIN:VCALENDAR
VERSION:2.0
PRODID:-//Nyíregyházi Sportcentrum - ECPv4.9.1.1//NONSGML v1.0//EN
CALSCALE:GREGORIAN
METHOD:PUBLISH
X-WR-CALNAME:Nyíregyházi Sportcentrum
X-ORIGINAL-URL:https://nyiregyhazisc.hu
X-WR-CALDESC:Events for Nyíregyházi Sportcentrum
BEGIN:VEVENT
DTSTART;TZID=UTC+1:20221119T130000
DTEND;TZID=UTC+1:20221119T173000
DTSTAMP:20260422T215802
CREATED:20221118T130514Z
LAST-MODIFIED:20221118T130514Z
UID:16872-1668862800-1668879000@nyiregyhazisc.hu
SUMMARY:Őryné Merő Nóra Országos Mini Bajnokság I.osztály
DESCRIPTION:Helyszín: Kecskemét \nMérkőzések: \n13.00 MTK Bp. Kék – Nyíregyházi Sportcentrum \n14.30 Nyíregyházi Sportcentrum – UTE U13 Lila \n
URL:https://nyiregyhazisc.hu/esemeny/oryne-mero-nora-orszagos-mini-bajnoksag-i-osztaly/
CATEGORIES:Sportesemény
END:VEVENT
END:VCALENDAR