
      
      
      
BEGIN:VCALENDAR
VERSION:2.0
PRODID:-//Nyíregyházi Sportcentrum - ECPv4.9.1.1//NONSGML v1.0//EN
CALSCALE:GREGORIAN
METHOD:PUBLISH
X-WR-CALNAME:Nyíregyházi Sportcentrum
X-ORIGINAL-URL:https://nyiregyhazisc.hu
X-WR-CALDESC:Events for Nyíregyházi Sportcentrum
BEGIN:VEVENT
DTSTART;TZID=UTC+1:20231119T123000
DTEND;TZID=UTC+1:20231119T170000
DTSTAMP:20260422T021212
CREATED:20231113T142206Z
LAST-MODIFIED:20231113T142206Z
UID:20846-1700397000-1700413200@nyiregyhazisc.hu
SUMMARY:Őryné Merő Nóra II.o. Kelet alapszakasz - röplabda - Budapest
DESCRIPTION:Mérkőzések: \n12.30 Miskolci Sportiskola – Nyíregyházi Sportcentrum Piros \n14.00 Nyíregyházi Sportcentrum Piros – Vasas SC U13 Fehér \n
URL:https://nyiregyhazisc.hu/esemeny/oryne-mero-nora-ii-o-kelet-alapszakasz-roplabda-budapest/
CATEGORIES:Sportesemény
END:VEVENT
END:VCALENDAR