
      
      
      
BEGIN:VCALENDAR
VERSION:2.0
PRODID:-//Nyíregyházi Sportcentrum - ECPv4.9.1.1//NONSGML v1.0//EN
CALSCALE:GREGORIAN
METHOD:PUBLISH
X-WR-CALNAME:Nyíregyházi Sportcentrum
X-ORIGINAL-URL:https://nyiregyhazisc.hu
X-WR-CALDESC:Events for Nyíregyházi Sportcentrum
BEGIN:VEVENT
DTSTART;TZID=UTC+1:20220326T100000
DTEND;TZID=UTC+1:20220326T150000
DTSTAMP:20260423T092800
CREATED:20220310T090851Z
LAST-MODIFIED:20220310T090851Z
UID:14819-1648288800-1648306800@nyiregyhazisc.hu
SUMMARY:OGYB U13 I.csoport kézilabda (Borsod\, Hajdú\, Szabolcs)
DESCRIPTION:OGYB U13 I.csoport kézilabda (Borsod\, Hajdú\, Szabolcs) \nHelyszín: Nyíregyháza \nIdőpont: 2022. március 26. \nMérkőzések \n10.00 óra – Nyíregyházi Sportcentrum – Arany Sárkány Focisuli Nyírbátor SE \n12.00 óra – Enjoy Robotics  Fehérgyarmat – Nyíregyházi Sportcentrum \n
URL:https://nyiregyhazisc.hu/esemeny/ogyb-u13-i-csoport-kezilabda-borsod-hajdu-szabolcs/
CATEGORIES:Sportesemény
END:VEVENT
END:VCALENDAR