
      
      
      
BEGIN:VCALENDAR
VERSION:2.0
PRODID:-//Nyíregyházi Sportcentrum - ECPv4.9.1.1//NONSGML v1.0//EN
CALSCALE:GREGORIAN
METHOD:PUBLISH
X-WR-CALNAME:Nyíregyházi Sportcentrum
X-ORIGINAL-URL:https://nyiregyhazisc.hu
X-WR-CALDESC:Events for Nyíregyházi Sportcentrum
BEGIN:VEVENT
DTSTART;TZID=UTC+1:20220508T100000
DTEND;TZID=UTC+1:20220508T150000
DTSTAMP:20260423T063231
CREATED:20220310T091736Z
LAST-MODIFIED:20220310T091736Z
UID:14823-1652004000-1652022000@nyiregyhazisc.hu
SUMMARY:OGYB U13 I.csoport kézilabda (Borsod\, Hajdú\, Szabolcs)
DESCRIPTION:OGYB U13 I.csoport kézilabda (Borsod\, Hajdú\, Szabolcs) \nHelyszín: Újfehértó \nIdőpont: 2022.05.08. \nMérkőzések: \n10.00 óra – Nyíregyházi Sportcentrum – Sárospataki TC \n12.00 óra – Nyíregyházi Sportcentrum – Dombrádi Mobil SE \n  \n
URL:https://nyiregyhazisc.hu/esemeny/ogyb-u13-i-csoport-kezilabda-borsod-hajdu-szabolcs-3/
CATEGORIES:Sportesemény
END:VEVENT
END:VCALENDAR