
      
      
      
BEGIN:VCALENDAR
VERSION:2.0
PRODID:-//Nyíregyházi Sportcentrum - ECPv4.9.1.1//NONSGML v1.0//EN
CALSCALE:GREGORIAN
METHOD:PUBLISH
X-WR-CALNAME:Nyíregyházi Sportcentrum
X-ORIGINAL-URL:https://nyiregyhazisc.hu
X-WR-CALDESC:Events for Nyíregyházi Sportcentrum
BEGIN:VEVENT
DTSTART;TZID=UTC+1:20220409T110000
DTEND;TZID=UTC+1:20220409T170000
DTSTAMP:20260423T075336
CREATED:20220310T091048Z
LAST-MODIFIED:20220310T091048Z
UID:14821-1649502000-1649523600@nyiregyhazisc.hu
SUMMARY:OGYB U13 I.csoport kézilabda (Borsod\, Hajdú\, Szabolcs)
DESCRIPTION:OGYB U13 I.csoport kézilabda (Borsod\, Hajdú\, Szabolcs) \nHelyszín: Kisvárda \nIdőpont: 2022. 04.09. \nMérkőzések: \n11.00 óra – Szivacs KC – Nyíregyházi Sportcentrum \n15.00 óra – Nyíregyházi Sportcentrum – Tiszavasvári Sportegyesület \n
URL:https://nyiregyhazisc.hu/esemeny/ogyb-u13-i-csoport-kezilabda-borsod-hajdu-szabolcs-2/
CATEGORIES:Sportesemény
END:VEVENT
END:VCALENDAR