
      
      
      
BEGIN:VCALENDAR
VERSION:2.0
PRODID:-//Nyíregyházi Sportcentrum - ECPv4.9.1.1//NONSGML v1.0//EN
CALSCALE:GREGORIAN
METHOD:PUBLISH
X-WR-CALNAME:Nyíregyházi Sportcentrum
X-ORIGINAL-URL:https://nyiregyhazisc.hu
X-WR-CALDESC:Events for Nyíregyházi Sportcentrum
BEGIN:VEVENT
DTSTART;TZID=UTC+1:20221119T120000
DTEND;TZID=UTC+1:20221119T160000
DTSTAMP:20260422T202137
CREATED:20221027T093648Z
LAST-MODIFIED:20221027T093648Z
UID:16620-1668859200-1668873600@nyiregyhazisc.hu
SUMMARY:OGYB - U13 fiú kézilabda mérkőzés  - Debrecen
DESCRIPTION:Mérkőzések: \n12.00 Mezőkövesdi KC – Nyíregyházi Sportcentrum \n14.00 Arany Sárkány Focisuli Nyírbátori ISE – Nyíregyházi Sportcentrum \n
URL:https://nyiregyhazisc.hu/esemeny/ogyb-u13-fiu-kezilabda-merkozes-debrecen/
CATEGORIES:Sportesemény
END:VEVENT
END:VCALENDAR