
      
      
      
BEGIN:VCALENDAR
VERSION:2.0
PRODID:-//Nyíregyházi Sportcentrum - ECPv4.9.1.1//NONSGML v1.0//EN
CALSCALE:GREGORIAN
METHOD:PUBLISH
X-WR-CALNAME:Nyíregyházi Sportcentrum
X-ORIGINAL-URL:https://nyiregyhazisc.hu
X-WR-CALDESC:Events for Nyíregyházi Sportcentrum
BEGIN:VEVENT
DTSTART;TZID=UTC+1:20230318T130000
DTEND;TZID=UTC+1:20230318T150000
DTSTAMP:20260422T144855
CREATED:20230314T141540Z
LAST-MODIFIED:20230314T141540Z
UID:18547-1679144400-1679151600@nyiregyhazisc.hu
SUMMARY:Óbudai Kaszások/A - Nyíregyházi Sportcentrum fiú serdülő kosárlabda bajnoki mérkőzés  Nyíregyháza
DESCRIPTION:
URL:https://nyiregyhazisc.hu/esemeny/obudai-kaszasok-a-nyiregyhazi-sportcentrum-fiu-serdulo-kosarlabda-bajnoki-merkozes-nyiregyhaza/
CATEGORIES:Sportesemény
END:VEVENT
END:VCALENDAR