
      
      
      
BEGIN:VCALENDAR
VERSION:2.0
PRODID:-//Nyíregyházi Sportcentrum - ECPv4.9.1.1//NONSGML v1.0//EN
CALSCALE:GREGORIAN
METHOD:PUBLISH
X-WR-CALNAME:Nyíregyházi Sportcentrum
X-ORIGINAL-URL:https://nyiregyhazisc.hu
X-WR-CALDESC:Events for Nyíregyházi Sportcentrum
BEGIN:VEVENT
DTSTART;TZID=UTC+1:20250207T143000
DTEND;TZID=UTC+1:20250207T170000
DTSTAMP:20260421T094419
CREATED:20250102T133346Z
LAST-MODIFIED:20250102T133346Z
UID:26077-1738938600-1738947600@nyiregyhazisc.hu
SUMMARY:ÓAM Ózdi KC - Nyíregyházi Sportcentrum FU20 kézilabda bajnoki mérkőzés - Ózd
DESCRIPTION:
URL:https://nyiregyhazisc.hu/esemeny/oam-ozdi-kc-nyiregyhazi-sportcentrum-fu20-kezilabda-bajnoki-merkozes-ozd/
CATEGORIES:Sportesemény
END:VEVENT
END:VCALENDAR