
      
      
      
BEGIN:VCALENDAR
VERSION:2.0
PRODID:-//Nyíregyházi Sportcentrum - ECPv4.9.1.1//NONSGML v1.0//EN
CALSCALE:GREGORIAN
METHOD:PUBLISH
X-WR-CALNAME:Nyíregyházi Sportcentrum
X-ORIGINAL-URL:https://nyiregyhazisc.hu
X-WR-CALDESC:Events for Nyíregyházi Sportcentrum
BEGIN:VEVENT
DTSTART;TZID=UTC+1:20230913T160000
DTEND;TZID=UTC+1:20230913T180000
DTSTAMP:20260422T053829
CREATED:20230911T112455Z
LAST-MODIFIED:20230911T112455Z
UID:20143-1694620800-1694628000@nyiregyhazisc.hu
SUMMARY:Nyíregyházi Sportcentrum - Újfehértói Kállósemjéni SZSE U19 leány kézilabda bajnoki mérkőzés - Wesselényi M. Szakközépiskola - Nyíregyháza
DESCRIPTION:
URL:https://nyiregyhazisc.hu/esemeny/nyiregyhazi-sportcentrum-ujfehertoi-kallosemjeni-szse-u19-leany-kezilabda-bajnoki-merkozes-wesselenyi-m-szakkozepiskola-nyiregyhaza/
CATEGORIES:Sportesemény
END:VEVENT
END:VCALENDAR