
      
      
      
BEGIN:VCALENDAR
VERSION:2.0
PRODID:-//Nyíregyházi Sportcentrum - ECPv4.9.1.1//NONSGML v1.0//EN
CALSCALE:GREGORIAN
METHOD:PUBLISH
X-WR-CALNAME:Nyíregyházi Sportcentrum
X-ORIGINAL-URL:https://nyiregyhazisc.hu
X-WR-CALDESC:Events for Nyíregyházi Sportcentrum
BEGIN:VEVENT
DTSTART;TZID=UTC+1:20211009T110000
DTEND;TZID=UTC+1:20211009T140000
DTSTAMP:20260423T210731
CREATED:20211007T081458Z
LAST-MODIFIED:20211007T081602Z
UID:13367-1633777200-1633788000@nyiregyhazisc.hu
SUMMARY:Nyíregyházi Sportcentrum U17 - Gödöllői RC  OSB lány röplabda bajnoki mérkőzés
DESCRIPTION:Szalayné Sebők Éva  U17 OSB Lány Röplabda Bajnoki mérkőzés \nNyíregyházi Sportcentrum  – Gödöllői RC \nHelyszín: Bem József Általános Iskola \n
URL:https://nyiregyhazisc.hu/esemeny/nyiregyhazi-sportcentrum-u17-godolloi-rc-osb-lany-roplabda-bajnoki-merkozes/
END:VEVENT
END:VCALENDAR