
      
      
      
BEGIN:VCALENDAR
VERSION:2.0
PRODID:-//Nyíregyházi Sportcentrum - ECPv4.9.1.1//NONSGML v1.0//EN
CALSCALE:GREGORIAN
METHOD:PUBLISH
X-WR-CALNAME:Nyíregyházi Sportcentrum
X-ORIGINAL-URL:https://nyiregyhazisc.hu
X-WR-CALDESC:Events for Nyíregyházi Sportcentrum
BEGIN:VEVENT
DTSTART;TZID=UTC+1:20220925T100000
DTEND;TZID=UTC+1:20220925T120000
DTSTAMP:20260422T234525
CREATED:20220922T094026Z
LAST-MODIFIED:20220922T094026Z
UID:16409-1664100000-1664107200@nyiregyhazisc.hu
SUMMARY:Nyíregyházi Sportcentrum - Tiszavasvári SE FU14 II.osztály  - Kisvárda - fiú kézilabda mérkőzés
DESCRIPTION:
URL:https://nyiregyhazisc.hu/esemeny/nyiregyhazi-sportcentrum-tiszavasvari-se-fu14-ii-osztaly-kisvarda-fiu-kezilabda-merkozes/
CATEGORIES:Sportesemény
END:VEVENT
END:VCALENDAR