
      
      
      
BEGIN:VCALENDAR
VERSION:2.0
PRODID:-//Nyíregyházi Sportcentrum - ECPv4.9.1.1//NONSGML v1.0//EN
CALSCALE:GREGORIAN
METHOD:PUBLISH
X-WR-CALNAME:Nyíregyházi Sportcentrum
X-ORIGINAL-URL:https://nyiregyhazisc.hu
X-WR-CALDESC:Events for Nyíregyházi Sportcentrum
BEGIN:VEVENT
DTSTART;TZID=UTC+1:20220310T153000
DTEND;TZID=UTC+1:20220310T170000
DTSTAMP:20260423T094116
CREATED:20220222T103453Z
LAST-MODIFIED:20220222T103453Z
UID:14614-1646926200-1646931600@nyiregyhazisc.hu
SUMMARY:Nyíregyházi Sportcentrum - Tisza Volán SC fiú serdülő kézilabda mérkőzés
DESCRIPTION:Nyíregyházi Sportcentrum – Tisza Volán SC fiú serdülő kézilabda mérkőzés \nHelyszín: Nyíregyháza \nIdőpont: 2022. március 10. 15.30 \n
URL:https://nyiregyhazisc.hu/esemeny/nyiregyhazi-sportcentrum-tisza-volan-sc-fiu-serdulo-kezilabda-merkozes/
CATEGORIES:Sportesemény
END:VEVENT
END:VCALENDAR