
      
      
      
BEGIN:VCALENDAR
VERSION:2.0
PRODID:-//Nyíregyházi Sportcentrum - ECPv4.9.1.1//NONSGML v1.0//EN
CALSCALE:GREGORIAN
METHOD:PUBLISH
X-WR-CALNAME:Nyíregyházi Sportcentrum
X-ORIGINAL-URL:https://nyiregyhazisc.hu
X-WR-CALDESC:Events for Nyíregyházi Sportcentrum
BEGIN:VEVENT
DTSTART;TZID=UTC+1:20230909T090000
DTEND;TZID=UTC+1:20230909T110000
DTSTAMP:20260422T065342
CREATED:20230907T093746Z
LAST-MODIFIED:20230907T093746Z
UID:20056-1694250000-1694257200@nyiregyhazisc.hu
SUMMARY:Nyíregyházi Sportcentrum - Szolnoki KA/B fiú junior kosárlabda bajnoki mérkőzés - Miskolc
DESCRIPTION:
URL:https://nyiregyhazisc.hu/esemeny/nyiregyhazi-sportcentrum-szolnoki-ka-b-fiu-junior-kosarlabda-bajnoki-merkozes-miskolc/
CATEGORIES:Sportesemény
END:VEVENT
END:VCALENDAR