
      
      
      
BEGIN:VCALENDAR
VERSION:2.0
PRODID:-//Nyíregyházi Sportcentrum - ECPv4.9.1.1//NONSGML v1.0//EN
CALSCALE:GREGORIAN
METHOD:PUBLISH
X-WR-CALNAME:Nyíregyházi Sportcentrum
X-ORIGINAL-URL:https://nyiregyhazisc.hu
X-WR-CALDESC:Events for Nyíregyházi Sportcentrum
BEGIN:VEVENT
DTSTART;TZID=UTC+1:20250214T183000
DTEND;TZID=UTC+1:20250214T203000
DTSTAMP:20260422T085836
CREATED:20250102T133510Z
LAST-MODIFIED:20250102T133510Z
UID:26079-1739557800-1739565000@nyiregyhazisc.hu
SUMMARY:Nyíregyházi Sportcentrum - Szalézi Kolorcity  Kazincbarcika FU20 kézilabda bajnoki mérkőzés - Nyíregyháza
DESCRIPTION:
URL:https://nyiregyhazisc.hu/esemeny/nyiregyhazi-sportcentrum-szalezi-kolorcity-kazincbarcika-fu20-kezilabda-bajnoki-merkozes-nyiregyhaza/
CATEGORIES:Sportesemény
END:VEVENT
END:VCALENDAR