
      
      
      
BEGIN:VCALENDAR
VERSION:2.0
PRODID:-//Nyíregyházi Sportcentrum - ECPv4.9.1.1//NONSGML v1.0//EN
CALSCALE:GREGORIAN
METHOD:PUBLISH
X-WR-CALNAME:Nyíregyházi Sportcentrum
X-ORIGINAL-URL:https://nyiregyhazisc.hu
X-WR-CALDESC:Events for Nyíregyházi Sportcentrum
BEGIN:VEVENT
DTSTART;TZID=UTC+1:20230914T173000
DTEND;TZID=UTC+1:20230914T190000
DTSTAMP:20260422T065704
CREATED:20230911T093203Z
LAST-MODIFIED:20230911T093203Z
UID:20115-1694712600-1694718000@nyiregyhazisc.hu
SUMMARY:Nyíregyházi Sportcentrum -ÓAM-Ózdi KC U20 fiú kézilabda bajnoki mérkőzés - Nyíregyháza - Zrínyi Ilona Gimn. Tornacs.
DESCRIPTION:
URL:https://nyiregyhazisc.hu/esemeny/nyiregyhazi-sportcentrum-oam-ozdi-kc-u20-fiu-kezilabda-bajnoki-merkozes-nyiregyhaza-zrinyi-ilona-gimn-tornacs/
CATEGORIES:Sportesemény
END:VEVENT
END:VCALENDAR