
      
      
      
BEGIN:VCALENDAR
VERSION:2.0
PRODID:-//Nyíregyházi Sportcentrum - ECPv4.9.1.1//NONSGML v1.0//EN
CALSCALE:GREGORIAN
METHOD:PUBLISH
X-WR-CALNAME:Nyíregyházi Sportcentrum
X-ORIGINAL-URL:https://nyiregyhazisc.hu
X-WR-CALDESC:Events for Nyíregyházi Sportcentrum
BEGIN:VEVENT
DTSTART;TZID=UTC+1:20230316T160000
DTEND;TZID=UTC+1:20230316T180000
DTSTAMP:20260422T144732
CREATED:20230314T141404Z
LAST-MODIFIED:20230314T141404Z
UID:18545-1678982400-1678989600@nyiregyhazisc.hu
SUMMARY:Nyíregyházi Sportcentrum - NYKK Eötvös U14/A fiú serdülő bajnoki kosárlabda mérkőzés  Nyíregyháza
DESCRIPTION:
URL:https://nyiregyhazisc.hu/esemeny/nyiregyhazi-sportcentrum-nykk-eotvos-u14-a-fiu-serdulo-bajnoki-kosarlabda-merkozes-nyiregyhaza/
CATEGORIES:Sportesemény
END:VEVENT
END:VCALENDAR