
      
      
      
BEGIN:VCALENDAR
VERSION:2.0
PRODID:-//Nyíregyházi Sportcentrum - ECPv4.9.1.1//NONSGML v1.0//EN
CALSCALE:GREGORIAN
METHOD:PUBLISH
X-WR-CALNAME:Nyíregyházi Sportcentrum
X-ORIGINAL-URL:https://nyiregyhazisc.hu
X-WR-CALDESC:Events for Nyíregyházi Sportcentrum
BEGIN:VEVENT
DTSTART;TZID=UTC+1:20221204T123000
DTEND;TZID=UTC+1:20221204T140000
DTSTAMP:20260422T203344
CREATED:20221202T100009Z
LAST-MODIFIED:20221202T100009Z
UID:16953-1670157000-1670162400@nyiregyhazisc.hu
SUMMARY:Nyíregyházi Sportcentrum - Nyírbátor SC U15 fiú kézilabda mérkőzés - Cigánd
DESCRIPTION:
URL:https://nyiregyhazisc.hu/esemeny/nyiregyhazi-sportcentrum-nyirbator-sc-u15-fiu-kezilabda-merkozes-cigand/
CATEGORIES:Sportesemény
END:VEVENT
END:VCALENDAR