
      
      
      
BEGIN:VCALENDAR
VERSION:2.0
PRODID:-//Nyíregyházi Sportcentrum - ECPv4.9.1.1//NONSGML v1.0//EN
CALSCALE:GREGORIAN
METHOD:PUBLISH
X-WR-CALNAME:Nyíregyházi Sportcentrum
X-ORIGINAL-URL:https://nyiregyhazisc.hu
X-WR-CALDESC:Events for Nyíregyházi Sportcentrum
BEGIN:VEVENT
DTSTART;TZID=UTC+1:20231019T160000
DTEND;TZID=UTC+1:20231019T180000
DTSTAMP:20260422T040712
CREATED:20231017T074042Z
LAST-MODIFIED:20231017T074042Z
UID:20648-1697731200-1697738400@nyiregyhazisc.hu
SUMMARY:Nyíregyházi Sportcentrum -  Mátészalkai MTK  U19 III.o. lány kézilabda bajnoki mérkőzés
DESCRIPTION:
URL:https://nyiregyhazisc.hu/esemeny/nyiregyhazi-sportcentrum-mateszalkai-mtk-u19-iii-o-lany-kezilabda-bajnoki-merkozes/
CATEGORIES:Sportesemény
END:VEVENT
END:VCALENDAR