
      
      
      
BEGIN:VCALENDAR
VERSION:2.0
PRODID:-//Nyíregyházi Sportcentrum - ECPv4.9.1.1//NONSGML v1.0//EN
CALSCALE:GREGORIAN
METHOD:PUBLISH
X-WR-CALNAME:Nyíregyházi Sportcentrum
X-ORIGINAL-URL:https://nyiregyhazisc.hu
X-WR-CALDESC:Events for Nyíregyházi Sportcentrum
BEGIN:VEVENT
DTSTART;TZID=UTC+1:20231027T160000
DTEND;TZID=UTC+1:20231027T190000
DTSTAMP:20260422T053606
CREATED:20231024T082442Z
LAST-MODIFIED:20231024T082442Z
UID:20680-1698422400-1698433200@nyiregyhazisc.hu
SUMMARY:Nyíregyházi Sportcentrum - KSA Bp. U18 II.o. Kelet fiú kézilabda bajnoki mérkőzés
DESCRIPTION:
URL:https://nyiregyhazisc.hu/esemeny/nyiregyhazi-sportcentrum-ksa-bp-u18-ii-o-kelet-fiu-kezilabda-bajnoki-merkozes/
CATEGORIES:Sportesemény
END:VEVENT
END:VCALENDAR