
      
      
      
BEGIN:VCALENDAR
VERSION:2.0
PRODID:-//Nyíregyházi Sportcentrum - ECPv4.9.1.1//NONSGML v1.0//EN
CALSCALE:GREGORIAN
METHOD:PUBLISH
X-WR-CALNAME:Nyíregyházi Sportcentrum
X-ORIGINAL-URL:https://nyiregyhazisc.hu
X-WR-CALDESC:Events for Nyíregyházi Sportcentrum
BEGIN:VEVENT
DTSTART;TZID=UTC+1:20221126T170000
DTEND;TZID=UTC+1:20221126T190000
DTSTAMP:20260422T203339
CREATED:20221123T101129Z
LAST-MODIFIED:20221123T101129Z
UID:16921-1669482000-1669489200@nyiregyhazisc.hu
SUMMARY:Nyíregyházi Sportcentrum - Kecskemét KA/A fiú serdülő bajnoki kosárlabda mérkőzés - középszakasz - Kecskemét
DESCRIPTION:
URL:https://nyiregyhazisc.hu/esemeny/nyiregyhazi-sportcentrum-kecskemet-ka-a-fiu-serdulo-bajnoki-kosarlabda-merkozes-kozepszakasz-kecskemet/
CATEGORIES:Sportesemény
END:VEVENT
END:VCALENDAR