
      
      
      
BEGIN:VCALENDAR
VERSION:2.0
PRODID:-//Nyíregyházi Sportcentrum - ECPv4.9.1.1//NONSGML v1.0//EN
CALSCALE:GREGORIAN
METHOD:PUBLISH
X-WR-CALNAME:Nyíregyházi Sportcentrum
X-ORIGINAL-URL:https://nyiregyhazisc.hu
X-WR-CALDESC:Events for Nyíregyházi Sportcentrum
BEGIN:VEVENT
DTSTART;TZID=UTC+1:20220324T163000
DTEND;TZID=UTC+1:20220324T183000
DTSTAMP:20260423T093959
CREATED:20220222T122526Z
LAST-MODIFIED:20220222T122526Z
UID:14630-1648139400-1648146600@nyiregyhazisc.hu
SUMMARY:Nyíregyházi Sportcentrum - Hatvani KSZSE leány serdülő kézilabda mérkőzés
DESCRIPTION:Nyíregyházi Sportcentrum – Hatvani KSZSE leány serdülő kézilabda mérkőzés \nHelyszín: Nyíregyháza \nIdőpont: 2022. március 24. 16.30 \n
URL:https://nyiregyhazisc.hu/esemeny/nyiregyhazi-sportcentrum-hatvani-kszse-leany-serdulo-kezilabda-merkozes/
CATEGORIES:Sportesemény
END:VEVENT
END:VCALENDAR