
      
      
      
BEGIN:VCALENDAR
VERSION:2.0
PRODID:-//Nyíregyházi Sportcentrum - ECPv4.9.1.1//NONSGML v1.0//EN
CALSCALE:GREGORIAN
METHOD:PUBLISH
X-WR-CALNAME:Nyíregyházi Sportcentrum
X-ORIGINAL-URL:https://nyiregyhazisc.hu
X-WR-CALDESC:Events for Nyíregyházi Sportcentrum
BEGIN:VEVENT
DTSTART;TZID=UTC+1:20220310T163000
DTEND;TZID=UTC+1:20220310T183000
DTSTAMP:20260423T080857
CREATED:20220222T121646Z
LAST-MODIFIED:20220222T121646Z
UID:14626-1646929800-1646937000@nyiregyhazisc.hu
SUMMARY:Nyíregyházi Sportcentrum - Hajdúböszörményi TE  leány serdülő kézilabda mérkőzés
DESCRIPTION:Nyíregyházi Sportcentrum – Hajdúböszörményi TE leány serdülő kézilabda mérkőzés \nHelyszín: Nyíregyháza \nIdőpont: 2022. 03.10. 16.30 \n
URL:https://nyiregyhazisc.hu/esemeny/nyiregyhazi-sportcentrum-hajduboszormenyi-te-leany-serdulo-kezilabda-merkozes/
CATEGORIES:Sportesemény
END:VEVENT
END:VCALENDAR