
      
      
      
BEGIN:VCALENDAR
VERSION:2.0
PRODID:-//Nyíregyházi Sportcentrum - ECPv4.9.1.1//NONSGML v1.0//EN
CALSCALE:GREGORIAN
METHOD:PUBLISH
X-WR-CALNAME:Nyíregyházi Sportcentrum
X-ORIGINAL-URL:https://nyiregyhazisc.hu
X-WR-CALDESC:Events for Nyíregyházi Sportcentrum
BEGIN:VEVENT
DTSTART;TZID=UTC+1:20230915T160000
DTEND;TZID=UTC+1:20230915T180000
DTSTAMP:20260422T071138
CREATED:20230911T095431Z
LAST-MODIFIED:20230911T095431Z
UID:20120-1694793600-1694800800@nyiregyhazisc.hu
SUMMARY:Nyíregyházi Sportcentrum - Enjoy Robotics Fehérgyarmati KSE U16 fiú bajnoki kézilabda mérkőzés - Nyíregyháza - Wesselényi M. Szakközp.
DESCRIPTION:
URL:https://nyiregyhazisc.hu/esemeny/nyiregyhazi-sportcentrum-enjoy-robotics-fehergyarmati-kse-u16-fiu-bajnoki-kezilabda-merkozes-nyiregyhaza-wesselenyi-m-szakkozp/
CATEGORIES:Sportesemény
END:VEVENT
END:VCALENDAR