
      
      
      
BEGIN:VCALENDAR
VERSION:2.0
PRODID:-//Nyíregyházi Sportcentrum - ECPv4.9.1.1//NONSGML v1.0//EN
CALSCALE:GREGORIAN
METHOD:PUBLISH
X-WR-CALNAME:Nyíregyházi Sportcentrum
X-ORIGINAL-URL:https://nyiregyhazisc.hu
X-WR-CALDESC:Events for Nyíregyházi Sportcentrum
BEGIN:VEVENT
DTSTART;TZID=UTC+1:20220128T163000
DTEND;TZID=UTC+1:20220128T180000
DTSTAMP:20260423T130951
CREATED:20220128T094324Z
LAST-MODIFIED:20220128T094324Z
UID:14256-1643387400-1643392800@nyiregyhazisc.hu
SUMMARY:Nyíregyházi Sportcentrum - Civis KK Tigrisek Kenguru kosárlabda mérkőzés
DESCRIPTION:Nyíregyházi Sportcentrum – Civis KK Tigrisek Kenguru kosárlabda mérkőzés \nHelyszín: Debrecen \nIdőpont: 2022. január 28. \n
URL:https://nyiregyhazisc.hu/esemeny/nyiregyhazi-sportcentrum-civis-kk-tigrisek-kenguru-kosarlabda-merkozes/
CATEGORIES:Sportesemény
END:VEVENT
END:VCALENDAR