
      
      
      
BEGIN:VCALENDAR
VERSION:2.0
PRODID:-//Nyíregyházi Sportcentrum - ECPv4.9.1.1//NONSGML v1.0//EN
CALSCALE:GREGORIAN
METHOD:PUBLISH
X-WR-CALNAME:Nyíregyházi Sportcentrum
X-ORIGINAL-URL:https://nyiregyhazisc.hu
X-WR-CALDESC:Events for Nyíregyházi Sportcentrum
BEGIN:VEVENT
DTSTART;TZID=UTC+1:20220108T103000
DTEND;TZID=UTC+1:20220108T130000
DTSTAMP:20260423T110614
CREATED:20220104T104723Z
LAST-MODIFIED:20220104T104807Z
UID:14057-1641637800-1641646800@nyiregyhazisc.hu
SUMMARY:Nyíregyházi Sportcentrum - Budapest Honvéd serdülő kosárlabda mérkőzés Szombathely
DESCRIPTION:
URL:https://nyiregyhazisc.hu/esemeny/nyiregyhazi-sportcentrum-budapest-honved-serdulo-kosarlabda-merkozes-szombathely/
CATEGORIES:Sportesemény
END:VEVENT
END:VCALENDAR