
      
      
      
BEGIN:VCALENDAR
VERSION:2.0
PRODID:-//Nyíregyházi Sportcentrum - ECPv4.9.1.1//NONSGML v1.0//EN
CALSCALE:GREGORIAN
METHOD:PUBLISH
X-WR-CALNAME:Nyíregyházi Sportcentrum
X-ORIGINAL-URL:https://nyiregyhazisc.hu
X-WR-CALDESC:Events for Nyíregyházi Sportcentrum
BEGIN:VEVENT
DTSTART;TZID=UTC+1:20221001T120000
DTEND;TZID=UTC+1:20221001T150000
DTSTAMP:20260422T220147
CREATED:20220930T130158Z
LAST-MODIFIED:20220930T130158Z
UID:16477-1664625600-1664636400@nyiregyhazisc.hu
SUMMARY:Nyíregyházi Sportcentrum - Atomerőmű GYKSE U14/A Fiú serdülő kosárlabda mérkőzés Békéscsaba
DESCRIPTION:
URL:https://nyiregyhazisc.hu/esemeny/nyiregyhazi-sportcentrum-atomeromu-gykse-u14-a-fiu-serdulo-kosarlabda-merkozes-bekescsaba/
CATEGORIES:Sportesemény
END:VEVENT
END:VCALENDAR