
      
      
      
BEGIN:VCALENDAR
VERSION:2.0
PRODID:-//Nyíregyházi Sportcentrum - ECPv4.9.1.1//NONSGML v1.0//EN
CALSCALE:GREGORIAN
METHOD:PUBLISH
X-WR-CALNAME:Nyíregyházi Sportcentrum
X-ORIGINAL-URL:https://nyiregyhazisc.hu
X-WR-CALDESC:Events for Nyíregyházi Sportcentrum
BEGIN:VEVENT
DTSTART;TZID=UTC+1:20230916T120000
DTEND;TZID=UTC+1:20230916T133000
DTSTAMP:20260422T070808
CREATED:20230911T105758Z
LAST-MODIFIED:20230911T105758Z
UID:20137-1694865600-1694871000@nyiregyhazisc.hu
SUMMARY:Nyíregyházi Sportcentrum/A - PVSK NKA/A fiú serdülő kosárlabda mérkőzés "B" csoport  selejetező  - Camugo Sportlaba - Budapest
DESCRIPTION:
URL:https://nyiregyhazisc.hu/esemeny/nyiregyhazi-sportcentrum-a-pvsk-nka-a-fiu-serdulo-kosarlabda-merkozes-b-csoport-selejetezo-camugo-sportlaba-budapest/
CATEGORIES:Sportesemény
END:VEVENT
END:VCALENDAR