
      
      
      
BEGIN:VCALENDAR
VERSION:2.0
PRODID:-//Nyíregyházi Sportcentrum - ECPv4.9.1.1//NONSGML v1.0//EN
CALSCALE:GREGORIAN
METHOD:PUBLISH
X-WR-CALNAME:Nyíregyházi Sportcentrum
X-ORIGINAL-URL:https://nyiregyhazisc.hu
X-WR-CALDESC:Events for Nyíregyházi Sportcentrum
BEGIN:VEVENT
DTSTART;TZID=UTC+1:20220924T100000
DTEND;TZID=UTC+1:20220924T120000
DTSTAMP:20260422T234714
CREATED:20220922T112706Z
LAST-MODIFIED:20220922T112706Z
UID:16423-1664013600-1664020800@nyiregyhazisc.hu
SUMMARY:Nyíregyházi Sportcentrum A - Pityke SE - Nyíregyháza - fiú kadett kosárlabda mérkőzés
DESCRIPTION:
URL:https://nyiregyhazisc.hu/esemeny/nyiregyhazi-sportcentrum-a-pityke-se-nyiregyhaza-fiu-kadett-kosarlabda-merkozes/
CATEGORIES:Sportesemény
END:VEVENT
END:VCALENDAR