
      
      
      
BEGIN:VCALENDAR
VERSION:2.0
PRODID:-//Nyíregyházi Sportcentrum - ECPv4.9.1.1//NONSGML v1.0//EN
CALSCALE:GREGORIAN
METHOD:PUBLISH
X-WR-CALNAME:Nyíregyházi Sportcentrum
X-ORIGINAL-URL:https://nyiregyhazisc.hu
X-WR-CALDESC:Events for Nyíregyházi Sportcentrum
BEGIN:VEVENT
DTSTART;TZID=UTC+1:20230916T180000
DTEND;TZID=UTC+1:20230916T200000
DTSTAMP:20260422T070935
CREATED:20230911T110810Z
LAST-MODIFIED:20230911T110810Z
UID:20139-1694887200-1694894400@nyiregyhazisc.hu
SUMMARY:Nyíregyházi Sportcentrum/A - Kiss Lenke KA/A fiú serdülő kosárlabda mérkőzés "B" csoport selejtező - Camugo Sportlab - Budapest
DESCRIPTION:
URL:https://nyiregyhazisc.hu/esemeny/nyiregyhazi-sportcentrum-a-kiss-lenke-ka-a-fiu-serdulo-kosarlabda-merkozes-b-csoport-selejtezo-camugo-sportlab-budapest/
CATEGORIES:Sportesemény
END:VEVENT
END:VCALENDAR