
      
      
      
BEGIN:VCALENDAR
VERSION:2.0
PRODID:-//Nyíregyházi Sportcentrum - ECPv4.9.1.1//NONSGML v1.0//EN
CALSCALE:GREGORIAN
METHOD:PUBLISH
X-WR-CALNAME:Nyíregyházi Sportcentrum
X-ORIGINAL-URL:https://nyiregyhazisc.hu
X-WR-CALDESC:Events for Nyíregyházi Sportcentrum
BEGIN:VEVENT
DTSTART;TZID=UTC+1:20220325T150000
DTEND;TZID=UTC+1:20220325T170000
DTSTAMP:20260423T094250
CREATED:20220225T095246Z
LAST-MODIFIED:20220225T095321Z
UID:14679-1648220400-1648227600@nyiregyhazisc.hu
SUMMARY:Nyíregyházi Sportcentrum/A-Félegyházi TSI fiú kadett kosárlabda mérkőzés
DESCRIPTION:Nyíregyházi Sportcentrum/A-Félegyházi TSI fiú kadett kosárlabda mérkőzés \nHelyszín: Nyíregyháza \nIdőpont: 2022. március 25. 15.00 óra \n  \n
URL:https://nyiregyhazisc.hu/esemeny/nyiregyhazi-sportcentrum-a-felegyhazi-tsi-fiu-kadett-kosarlabda-merkozes/
CATEGORIES:Sportesemény
END:VEVENT
END:VCALENDAR