
      
      
      
BEGIN:VCALENDAR
VERSION:2.0
PRODID:-//Nyíregyházi Sportcentrum - ECPv4.9.1.1//NONSGML v1.0//EN
CALSCALE:GREGORIAN
METHOD:PUBLISH
X-WR-CALNAME:Nyíregyházi Sportcentrum
X-ORIGINAL-URL:https://nyiregyhazisc.hu
X-WR-CALDESC:Events for Nyíregyházi Sportcentrum
BEGIN:VEVENT
DTSTART;TZID=UTC+1:20220321T153000
DTEND;TZID=UTC+1:20220321T170000
DTSTAMP:20260423T094117
CREATED:20220225T094301Z
LAST-MODIFIED:20220225T094754Z
UID:14677-1647876600-1647882000@nyiregyhazisc.hu
SUMMARY:Nyíregyházi Sportcentrum/A-DMTK/A fiú kadett kosárlabda mérkőzés
DESCRIPTION:Nyíregyházi Sportcentrum/A-DMTK/A fiú kadett kosárlabda mérkőzés \nHelyszín: Nyíregyháza \nIdőpont: 2022.március 21. 15.30 óra \n
URL:https://nyiregyhazisc.hu/esemeny/nyiregyhazi-sportcentrum-a-dmtk-a-fiu-kadett-kosarlabda-merkozes/
CATEGORIES:Sportesemény
END:VEVENT
END:VCALENDAR