
      
      
      
BEGIN:VCALENDAR
VERSION:2.0
PRODID:-//Nyíregyházi Sportcentrum - ECPv4.9.1.1//NONSGML v1.0//EN
CALSCALE:GREGORIAN
METHOD:PUBLISH
X-WR-CALNAME:Nyíregyházi Sportcentrum
X-ORIGINAL-URL:https://nyiregyhazisc.hu
X-WR-CALDESC:Events for Nyíregyházi Sportcentrum
BEGIN:VEVENT
DTSTART;VALUE=DATE:20220116
DTEND;VALUE=DATE:20220117
DTSTAMP:20260423T130234
CREATED:20220103T140038Z
LAST-MODIFIED:20220103T140136Z
UID:14052-1642291200-1642377599@nyiregyhazisc.hu
SUMMARY:Nyíregyháza Nyílt Fedett Pályás Atlétika Versenye
DESCRIPTION:Nyíregyháza Nyílt Fedett Pályás Atlétika Versenye \nHelyszín: Nyíregyházi Atlétikai Centrum \nIdőpont:  2022.január 16. \nKorosztály: ifjúsági-U18\, Junior – U20\, Abszolút \n
URL:https://nyiregyhazisc.hu/esemeny/nyiregyhaza-nyilt-fedett-palyas-atletika-versenye/
CATEGORIES:Sportesemény
END:VEVENT
END:VCALENDAR