
      
      
      
BEGIN:VCALENDAR
VERSION:2.0
PRODID:-//Nyíregyházi Sportcentrum - ECPv4.9.1.1//NONSGML v1.0//EN
CALSCALE:GREGORIAN
METHOD:PUBLISH
X-WR-CALNAME:Nyíregyházi Sportcentrum
X-ORIGINAL-URL:https://nyiregyhazisc.hu
X-WR-CALDESC:Events for Nyíregyházi Sportcentrum
BEGIN:VEVENT
DTSTART;VALUE=DATE:20220123
DTEND;VALUE=DATE:20220124
DTSTAMP:20260423T142300
CREATED:20220103T141426Z
LAST-MODIFIED:20220103T141426Z
UID:14055-1642896000-1642982399@nyiregyhazisc.hu
SUMMARY:Nyíregyháza Nyílt Fedett Pályás Atlétika  Versenye
DESCRIPTION:Nyíregyháza Nyílt Fedett Pályás Atlétika Versenye \nHelyszín: Nyíregyházi Atlétikai Centrum \nIdőpont: 2022. január 23. \nKorosztály: újonc-U14\, serdülő-U16\, ifjúsági-U18\, junior-U20\, abszolút \n
URL:https://nyiregyhazisc.hu/esemeny/nyiregyhaza-nyilt-fedett-palyas-atletika-versenye-2/
CATEGORIES:Sportesemény
END:VEVENT
END:VCALENDAR