
      
      
      
BEGIN:VCALENDAR
VERSION:2.0
PRODID:-//Nyíregyházi Sportcentrum - ECPv4.9.1.1//NONSGML v1.0//EN
CALSCALE:GREGORIAN
METHOD:PUBLISH
X-WR-CALNAME:Nyíregyházi Sportcentrum
X-ORIGINAL-URL:https://nyiregyhazisc.hu
X-WR-CALDESC:Events for Nyíregyházi Sportcentrum
BEGIN:VEVENT
DTSTART;TZID=UTC+1:20211017T140000
DTEND;TZID=UTC+1:20211017T190000
DTSTAMP:20260423T193531
CREATED:20211014T095932Z
LAST-MODIFIED:20211014T095932Z
UID:13476-1634479200-1634497200@nyiregyhazisc.hu
SUMMARY:Női NBII. - U21 'E' csoport női röplabda bajnoki forduló
DESCRIPTION:Női NBII. – U21 ‘E’ csoport női röplabda bajnoki forduló \nEger \n14:00 EVSI – Nyíregyházi Sportcentrum \n
URL:https://nyiregyhazisc.hu/esemeny/noi-nbii-u21-e-csoport-noi-roplabda-bajnoki-fordulo/
END:VEVENT
END:VCALENDAR