
      
      
      
BEGIN:VCALENDAR
VERSION:2.0
PRODID:-//Nyíregyházi Sportcentrum - ECPv4.9.1.1//NONSGML v1.0//EN
CALSCALE:GREGORIAN
METHOD:PUBLISH
X-WR-CALNAME:Nyíregyházi Sportcentrum
X-ORIGINAL-URL:https://nyiregyhazisc.hu
X-WR-CALDESC:Events for Nyíregyházi Sportcentrum
BEGIN:VEVENT
DTSTART;VALUE=DATE:20230930
DTEND;VALUE=DATE:20231001
DTSTAMP:20260422T040502
CREATED:20230918T133248Z
LAST-MODIFIED:20230918T133248Z
UID:20276-1696032000-1696118399@nyiregyhazisc.hu
SUMMARY:Nógrád-Heves megyei hosszútávú tájfutó bajnokság - Gyöngyössolymos
DESCRIPTION:
URL:https://nyiregyhazisc.hu/esemeny/nograd-heves-megyei-hosszutavu-tajfuto-bajnoksag-gyongyossolymos/
CATEGORIES:Sportesemény
END:VEVENT
END:VCALENDAR