
      
      
      
BEGIN:VCALENDAR
VERSION:2.0
PRODID:-//Nyíregyházi Sportcentrum - ECPv4.9.1.1//NONSGML v1.0//EN
CALSCALE:GREGORIAN
METHOD:PUBLISH
X-WR-CALNAME:Nyíregyházi Sportcentrum
X-ORIGINAL-URL:https://nyiregyhazisc.hu
X-WR-CALDESC:Events for Nyíregyházi Sportcentrum
BEGIN:VEVENT
DTSTART;TZID=UTC+1:20220212T180000
DTEND;TZID=UTC+1:20220212T200000
DTSTAMP:20260423T124301
CREATED:20220210T124946Z
LAST-MODIFIED:20220210T124946Z
UID:14473-1644688800-1644696000@nyiregyhazisc.hu
SUMMARY:NKA Pécs/A - Nyíregyházi Sportcentrum  serdülő kosárlabda mérkőzés
DESCRIPTION:NKA Pécs/A – Nyíregyházi Sportcentrum serdülő kosárlabda mérkőzés \nHelyszín: Debrecen \n
URL:https://nyiregyhazisc.hu/esemeny/nka-pecs-a-nyiregyhazi-sportcentrum-serdulo-kosarlabda-merkozes/
CATEGORIES:Sportesemény
END:VEVENT
END:VCALENDAR