
      
      
      
BEGIN:VCALENDAR
VERSION:2.0
PRODID:-//Nyíregyházi Sportcentrum - ECPv4.9.1.1//NONSGML v1.0//EN
CALSCALE:GREGORIAN
METHOD:PUBLISH
X-WR-CALNAME:Nyíregyházi Sportcentrum
X-ORIGINAL-URL:https://nyiregyhazisc.hu
X-WR-CALDESC:Events for Nyíregyházi Sportcentrum
BEGIN:VEVENT
DTSTART;TZID=UTC+1:20211112T150000
DTEND;TZID=UTC+1:20211112T170000
DTSTAMP:20260423T155237
CREATED:20211105T143145Z
LAST-MODIFIED:20211105T143145Z
UID:13633-1636729200-1636736400@nyiregyhazisc.hu
SUMMARY:Nemzeti fiú kadett bajnokság 2021-22. országos főtábla II.csoport alapszakasz D csoport
DESCRIPTION:Nemzeti fiú kadett bajnokság 2021-22. országos főtábla II.csoport alapszakasz D csoport \n2021. november 12. péntek 15.00 óra \nZrínyi Ilona Gimnázium Tiszavasvári úti Tornacsarnoka \n15.00  óra \nNyíregyházi Sportcentrum/A – Szolnoki KA/A kosárlabda mérkőzés \n
URL:https://nyiregyhazisc.hu/esemeny/nemzeti-fiu-kadett-bajnoksag-2021-22-orszagos-fotabla-ii-csoport-alapszakasz-d-csoport-3/
END:VEVENT
END:VCALENDAR