
      
      
      
BEGIN:VCALENDAR
VERSION:2.0
PRODID:-//Nyíregyházi Sportcentrum - ECPv4.9.1.1//NONSGML v1.0//EN
CALSCALE:GREGORIAN
METHOD:PUBLISH
X-WR-CALNAME:Nyíregyházi Sportcentrum
X-ORIGINAL-URL:https://nyiregyhazisc.hu
X-WR-CALDESC:Events for Nyíregyházi Sportcentrum
BEGIN:VEVENT
DTSTART;TZID=UTC+1:20211107T130000
DTEND;TZID=UTC+1:20211107T130000
DTSTAMP:20260423T155226
CREATED:20211105T142923Z
LAST-MODIFIED:20211105T142923Z
UID:13630-1636290000-1636290000@nyiregyhazisc.hu
SUMMARY:Nemzeti fiú kadett bajnokság 2021-22. országos főtábla II.csoport alapszakasz D csoport
DESCRIPTION:Nemzeti fiú kadett bajnokság 2021-22. országos főtábla II.csoport alapszakasz D csoport \n2021.november 7. vasárnap 13.00 óra \nDEAC KA U/16 – Nyíregyházi Sportcentrum /A kosárlabda mérkőzés \n
URL:https://nyiregyhazisc.hu/esemeny/nemzeti-fiu-kadett-bajnoksag-2021-22-orszagos-fotabla-ii-csoport-alapszakasz-d-csoport-2/
END:VEVENT
END:VCALENDAR