
      
      
      
BEGIN:VCALENDAR
VERSION:2.0
PRODID:-//Nyíregyházi Sportcentrum - ECPv4.9.1.1//NONSGML v1.0//EN
CALSCALE:GREGORIAN
METHOD:PUBLISH
X-WR-CALNAME:Nyíregyházi Sportcentrum
X-ORIGINAL-URL:https://nyiregyhazisc.hu
X-WR-CALDESC:Events for Nyíregyházi Sportcentrum
BEGIN:VEVENT
DTSTART;TZID=UTC+1:20211130T170000
DTEND;TZID=UTC+1:20211130T200000
DTSTAMP:20260423T162909
CREATED:20211105T142408Z
LAST-MODIFIED:20211105T142408Z
UID:13625-1638291600-1638302400@nyiregyhazisc.hu
SUMMARY:Nemzeti fiú junior bajnokság 2021-2022. országos főtábla II. csoport alapszakasz c csoport
DESCRIPTION:Nemzeti fiú junior bajnokság 2021-2022. országos főtábla II. csoport alapszakasz c csoport \n2021.november 30. kedd 17.00 óra \nÚjpest -MT/A – Nyíregyházi Sportcentrum kosárlabda mérkőzés \n
URL:https://nyiregyhazisc.hu/esemeny/nemzeti-fiu-junior-bajnoksag-2021-2022-orszagos-fotabla-ii-csoport-alapszakasz-c-csoport-4/
END:VEVENT
END:VCALENDAR