
      
      
      
BEGIN:VCALENDAR
VERSION:2.0
PRODID:-//Nyíregyházi Sportcentrum - ECPv4.9.1.1//NONSGML v1.0//EN
CALSCALE:GREGORIAN
METHOD:PUBLISH
X-WR-CALNAME:Nyíregyházi Sportcentrum
X-ORIGINAL-URL:https://nyiregyhazisc.hu
X-WR-CALDESC:Events for Nyíregyházi Sportcentrum
BEGIN:VEVENT
DTSTART;VALUE=DATE:20221022
DTEND;VALUE=DATE:20221023
DTSTAMP:20260422T215758
CREATED:20221020T125335Z
LAST-MODIFIED:20221020T125335Z
UID:16558-1666396800-1666483199@nyiregyhazisc.hu
SUMMARY:Négy évszak Kupa - Kardverseny - Debreccen
DESCRIPTION:
URL:https://nyiregyhazisc.hu/esemeny/negy-evszak-kupa-kardverseny-debreccen/
CATEGORIES:Sportesemény
END:VEVENT
END:VCALENDAR